BEGIN:VCALENDAR
VERSION:2.0
PRODID:-//Love Ottawa - ECPv6.2.6//NONSGML v1.0//EN
CALSCALE:GREGORIAN
METHOD:PUBLISH
X-WR-CALNAME:Love Ottawa
X-ORIGINAL-URL:https://loveottawa.ca
X-WR-CALDESC:Events for Love Ottawa
REFRESH-INTERVAL;VALUE=DURATION:PT1H
X-Robots-Tag:noindex
X-PUBLISHED-TTL:PT1H
BEGIN:VTIMEZONE
TZID:America/Toronto
BEGIN:DAYLIGHT
TZOFFSETFROM:-0500
TZOFFSETTO:-0400
TZNAME:EDT
DTSTART:20180311T070000
END:DAYLIGHT
BEGIN:STANDARD
TZOFFSETFROM:-0400
TZOFFSETTO:-0500
TZNAME:EST
DTSTART:20181104T060000
END:STANDARD
END:VTIMEZONE
BEGIN:VEVENT
DTSTART;TZID=America/Toronto:20180511T090000
DTEND;TZID=America/Toronto:20180512T120000
DTSTAMP:20260423T234653
CREATED:20180329T155316Z
LAST-MODIFIED:20180329T174501Z
UID:1887-1526029200-1526126400@loveottawa.ca
SUMMARY:Book Lovers Fundraiser - May 11 - 12
DESCRIPTION:This year\, The Code will be running the book sale as a fundraiser for their program. Please click here to learn more about The Code. \nHere’s your chance to score some really great used books.  We sell hardcovers for $2 and softcovers for $1 (with a few exceptions). Tell your friends! \nDo you have a box of Christian books you would like to donate? \nNote: We are only looking for Christian books\, including Christian fiction. Not cookbooks\, old cassettes\, VHS videos\,  or 8-Tracks.  Yes\, we will take sheet music. \nIt’s a “win-win-win” situation!\nEverybody gets blessed. We raise funds for the Love Ottawa team\, The Code\, while lots of great books get swapped across the Body of Christ\, and the left-over books go to The Christian Salvage Mission and are placed with leaders in the developing world. And … we help you clear out your basement of those boxes you were never going to open again. \nVolunteers are welcome.   Hoping to see you and your surplus books soon. \nBook Drop-off at OWM\nTuesday – Thursday May 1 – 3\,  9:00 AM TO 4 PM.\nSaturday May 5\, 9:00 AM to NOON.\nMonday – Thursday May 7-10\,  9:00 AM TO 4:00 PM \nBook Lovers Hours:\nFriday May 11  9:00 AM – 5:00 PM\nSaturday May 12 9:00 AM – 12:00 PM   \nCome early for great deals! \nLocation: The One Way Ministries office
URL:https://loveottawa.ca/event/book-lovers-fundraiser-may-11-12/
LOCATION:One Way Ministries\, 89 Auriga Drive\, Ottawa\, Ontario\, K2E 7Z2\, Canada
END:VEVENT
BEGIN:VEVENT
DTSTART;TZID=America/Toronto:20180515T093000
DTEND;TZID=America/Toronto:20180515T123000
DTSTAMP:20260423T234653
CREATED:20180310T175051Z
LAST-MODIFIED:20180310T175926Z
UID:1879-1526376600-1526387400@loveottawa.ca
SUMMARY:2018 Church Leaders Forum with World Vision
DESCRIPTION:Do you sometimes feel like your church doesn’t have enough resources or people to make a significant impact? We want to encourage you that your church can have an impact that is exponentially greater than your size and budget! \nEach year World Vision Canada is pleased to host a Church Leaders Forum across Canada\, and this year we will be in 17 cities from coast to coast with an Ottawa date of May 15th! \nWe are excited to partner with World Vision to have Keith Stewart\, Pastor of Springcreek Church and Author of ‘We Were Wrong’ joining us in Ottawa for: ‘The 5 Conversions of the Church: Waking up to an expansive view of the fullness of the Gospel’. \nJoin us as we discover how relationships with the world’s most vulnerable people at home and abroad can be catalytic in the transformation of your church. This leadership forum will be packed with challenging teaching\, practical examples\, and resources to equip you as a leader in the transformation of your church for God’s Kingdom purposes. \nThe Forum will be in Ottawa on May 15th and we would love to have you join us! You can register here.
URL:https://loveottawa.ca/event/2018-church-leaders-forum-with-world-vision/
LOCATION:Bethel Pentecostal Church\, 500 Viewmount Dr\, Nepean\, ON
END:VEVENT
END:VCALENDAR