BEGIN:VCALENDAR
VERSION:2.0
PRODID:-//Love Ottawa - ECPv6.2.6//NONSGML v1.0//EN
CALSCALE:GREGORIAN
METHOD:PUBLISH
X-ORIGINAL-URL:https://loveottawa.ca
X-WR-CALDESC:Events for Love Ottawa
REFRESH-INTERVAL;VALUE=DURATION:PT1H
X-Robots-Tag:noindex
X-PUBLISHED-TTL:PT1H
BEGIN:VTIMEZONE
TZID:America/Toronto
BEGIN:DAYLIGHT
TZOFFSETFROM:-0500
TZOFFSETTO:-0400
TZNAME:EDT
DTSTART:20180311T070000
END:DAYLIGHT
BEGIN:STANDARD
TZOFFSETFROM:-0400
TZOFFSETTO:-0500
TZNAME:EST
DTSTART:20181104T060000
END:STANDARD
END:VTIMEZONE
BEGIN:VEVENT
DTSTART;VALUE=DATE:20180330
DTEND;VALUE=DATE:20180403
DTSTAMP:20260424T010820
CREATED:20180306T224400Z
LAST-MODIFIED:20180306T224400Z
UID:1870-1522368000-1522713599@loveottawa.ca
SUMMARY:Friends for Dinner - Easter
DESCRIPTION:Opportunity to be a Host Families for Easter meal! \nFriends for Dinner is such an amazing story. Not only is it touching hundreds of international students in our city\, but it has been started in five other cities in Canada\, with other places showing great interest. \nWith each campaign we need more families. Why? Because we encourage host families to keep the relationships going with the students they have already met at Thanksgiving and Christmas. \nPastors\, we need your help. Do you have families that you would recommend? Would you be willing to encourage some friends to participate? Could you make an announcement in your weekend services over the next couple of weeks? \nClick here for all of the details and to find out the next steps. \nPlease register online at www.friendsfordinner.ca
URL:https://loveottawa.ca/event/friends-for-dinner-easter-2/
END:VEVENT
BEGIN:VEVENT
DTSTART;TZID=America/Toronto:20180401T070000
DTEND;TZID=America/Toronto:20180401T083000
DTSTAMP:20260424T010820
CREATED:20180310T173455Z
LAST-MODIFIED:20180310T173455Z
UID:1876-1522566000-1522571400@loveottawa.ca
SUMMARY:Love Ottawa Sunrise Easter Service
DESCRIPTION:We gather at 7:00 AM for an inspirational worship experience that begins promptly at 7:15 AM. People from many different congregations gather every year to celebrate the resurrection of Jesus our Lord on the steps of Parliament. \nAs the first notes of the Salvation Army brass band begin to play we lift our praises on Parliament Hill. This year’s speaker is Rev. Brent Stiller from St. Peter & St. Paul’s Anglican Church. \nInvite your friends. Free parking at the World Exchange Plaza. Optional continental breakfast following the service at St. Peter and St. Paul’s.
URL:https://loveottawa.ca/event/love-ottawa-sunrise-easter-service/
LOCATION:Parliament Hill\, Ottawa
END:VEVENT
END:VCALENDAR