BEGIN:VCALENDAR
VERSION:2.0
PRODID:-//Love Ottawa - ECPv6.2.6//NONSGML v1.0//EN
CALSCALE:GREGORIAN
METHOD:PUBLISH
X-ORIGINAL-URL:https://loveottawa.ca
X-WR-CALDESC:Events for Love Ottawa
REFRESH-INTERVAL;VALUE=DURATION:PT1H
X-Robots-Tag:noindex
X-PUBLISHED-TTL:PT1H
BEGIN:VTIMEZONE
TZID:America/Toronto
BEGIN:DAYLIGHT
TZOFFSETFROM:-0500
TZOFFSETTO:-0400
TZNAME:EDT
DTSTART:20170312T070000
END:DAYLIGHT
BEGIN:STANDARD
TZOFFSETFROM:-0400
TZOFFSETTO:-0500
TZNAME:EST
DTSTART:20171105T060000
END:STANDARD
END:VTIMEZONE
BEGIN:VEVENT
DTSTART;VALUE=DATE:20171006
DTEND;VALUE=DATE:20171010
DTSTAMP:20260424T101220
CREATED:20170905T215927Z
LAST-MODIFIED:20170905T215927Z
UID:1831-1507248000-1507593599@loveottawa.ca
SUMMARY:Friends for Dinner - Thanksgiving
DESCRIPTION:Over the last year we saw over 360 students hosted in Christian homes! The potential is for so much more when we consider that over 12\,000 international students come to Ottawa every year. We need more host families! \nPlease RSVP if you would like postcards or posters for your congregation.\nClick on Bulletin inserts and posters to download the .pdf. \nThere is much more information at the Friends for Dinner website.\nFamilies can also register online at that site. www.friendsfordinner.ca .
URL:https://loveottawa.ca/event/friends-for-dinner-thanksgiving/
END:VEVENT
BEGIN:VEVENT
DTSTART;TZID=America/Toronto:20171027T071500
DTEND;TZID=America/Toronto:20171027T090000
DTSTAMP:20260424T101220
CREATED:20170529T155855Z
LAST-MODIFIED:20170529T160401Z
UID:1796-1509088500-1509094800@loveottawa.ca
SUMMARY:Ottawa Civic Prayer Breakfast
DESCRIPTION:The Ottawa Civic Prayer Breakfast is one of 50 or more city prayer breakfasts held annually across the country.  At the breakfast we honour and pray for our Mayor\, City Councillors and First Responders. \nThis year our speaker will be Gerry Organ and he will be answering that question through the lens of being a former football player\, his work with refugees and immigrant families here in Ottawa\, mentoring young men with fatherhood issues\, and encouraging young Entrepreneurs in their calling. Also\, he is passionate about this annual prayer event! \nFor more information\, visit the Ottawa Civic Prayer Breakfast Website.\nClick here to buy a table or individual tickets\, \n 
URL:https://loveottawa.ca/event/ottawa-civic-prayer-breakfast-3/
LOCATION:Ottawa Conference and Event Centre\, 200 Coventry Road\, Ottawa
END:VEVENT
BEGIN:VEVENT
DTSTART;TZID=America/Toronto:20171027T093000
DTEND;TZID=America/Toronto:20171027T113000
DTSTAMP:20260424T101220
CREATED:20170905T192252Z
LAST-MODIFIED:20171023T235028Z
UID:1824-1509096600-1509103800@loveottawa.ca
SUMMARY:Pastors Prayer time for the City (following the Ottawa Civic Prayer Breakfast)
DESCRIPTION:Quarterly Pastors Prayer \nOctober 27th\, 10:00 am – 12:00 pm (after the Breakfast) \nThis fall\, the quarterly gathering of pastors and leaders praying for the city will be held following the Ottawa Civic Prayer Breakfast. Everyone who is interested is invited to join this important time of intercession. For more information email Sarah Jackson or Pastor Ken Roth.
URL:https://loveottawa.ca/event/pastors-prayer-time-for-the-city-following-the-ottawa-civic-prayer-breakfast/
END:VEVENT
END:VCALENDAR