BEGIN:VCALENDAR
VERSION:2.0
PRODID:-//Love Ottawa - ECPv6.2.6//NONSGML v1.0//EN
CALSCALE:GREGORIAN
METHOD:PUBLISH
X-ORIGINAL-URL:https://loveottawa.ca
X-WR-CALDESC:Events for Love Ottawa
REFRESH-INTERVAL;VALUE=DURATION:PT1H
X-Robots-Tag:noindex
X-PUBLISHED-TTL:PT1H
BEGIN:VTIMEZONE
TZID:America/Toronto
BEGIN:DAYLIGHT
TZOFFSETFROM:-0500
TZOFFSETTO:-0400
TZNAME:EDT
DTSTART:20170312T070000
END:DAYLIGHT
BEGIN:STANDARD
TZOFFSETFROM:-0400
TZOFFSETTO:-0500
TZNAME:EST
DTSTART:20171105T060000
END:STANDARD
END:VTIMEZONE
BEGIN:VEVENT
DTSTART;VALUE=DATE:20170603
DTEND;VALUE=DATE:20170604
DTSTAMP:20260424T164142
CREATED:20170529T152025Z
LAST-MODIFIED:20170529T153616Z
UID:1791-1496448000-1496534399@loveottawa.ca
SUMMARY:The Big Give
DESCRIPTION:Imagine one hundred churches working together to extravagantly bless our city on the same day. We want you to be involved. Whether you are part of a small church or a large one this event is for you. Your involvement can be tailored for your community and still know that you are part of a greater initiative with a larger heart that is touching every neighbourhood in our great city. \nRegister your church! Visit The Big Give website for more information. \n 
URL:https://loveottawa.ca/event/the-big-give-3/
END:VEVENT
END:VCALENDAR