BEGIN:VCALENDAR
VERSION:2.0
PRODID:-//Love Ottawa - ECPv6.2.6//NONSGML v1.0//EN
CALSCALE:GREGORIAN
METHOD:PUBLISH
X-WR-CALNAME:Love Ottawa
X-ORIGINAL-URL:https://loveottawa.ca
X-WR-CALDESC:Events for Love Ottawa
REFRESH-INTERVAL;VALUE=DURATION:PT1H
X-Robots-Tag:noindex
X-PUBLISHED-TTL:PT1H
BEGIN:VTIMEZONE
TZID:America/Toronto
BEGIN:DAYLIGHT
TZOFFSETFROM:-0500
TZOFFSETTO:-0400
TZNAME:EDT
DTSTART:20170312T070000
END:DAYLIGHT
BEGIN:STANDARD
TZOFFSETFROM:-0400
TZOFFSETTO:-0500
TZNAME:EST
DTSTART:20171105T060000
END:STANDARD
END:VTIMEZONE
BEGIN:VEVENT
DTSTART;TZID=America/Toronto:20170525T093000
DTEND;TZID=America/Toronto:20170525T110000
DTSTAMP:20260424T181040
CREATED:20170316T142924Z
LAST-MODIFIED:20170316T142924Z
UID:1776-1495704600-1495710000@loveottawa.ca
SUMMARY:Big Give Prayer Rally
DESCRIPTION:Join all of the churches who are participating in the Big Give for an inspirational prayer rally a week before the BIG GIVE EVENT! We will spend time praying for neighbourhoods and communities across Canada where the Big Give will be taking place. \nWe are hoping to have some materials from the Canadian Bible Society and The Gideons to give away to church representatives in attendance….we’d love to see all of the Ottawa/Ottawa Valley churches represented! Also\, if you ordered T-Shirts\, we will be handing those over to you at that time. \nIf you are unable to attend\, see if there is someone else who can come in your place! \nCome and help us cover this great outreach in prayer.
URL:https://loveottawa.ca/event/big-give-prayer-rally-2/
LOCATION:All Saints Lutheran Church\, 1061 Pinecrest Rd\, Ottawa\, K2B6B7
END:VEVENT
END:VCALENDAR