BEGIN:VCALENDAR
VERSION:2.0
PRODID:-//Love Ottawa - ECPv6.2.6//NONSGML v1.0//EN
CALSCALE:GREGORIAN
METHOD:PUBLISH
X-ORIGINAL-URL:https://loveottawa.ca
X-WR-CALDESC:Events for Love Ottawa
REFRESH-INTERVAL;VALUE=DURATION:PT1H
X-Robots-Tag:noindex
X-PUBLISHED-TTL:PT1H
BEGIN:VTIMEZONE
TZID:America/Toronto
BEGIN:DAYLIGHT
TZOFFSETFROM:-0500
TZOFFSETTO:-0400
TZNAME:EDT
DTSTART:20170312T070000
END:DAYLIGHT
BEGIN:STANDARD
TZOFFSETFROM:-0400
TZOFFSETTO:-0500
TZNAME:EST
DTSTART:20171105T060000
END:STANDARD
END:VTIMEZONE
BEGIN:VEVENT
DTSTART;VALUE=DATE:20170414
DTEND;VALUE=DATE:20170418
DTSTAMP:20260424T193402
CREATED:20170316T135223Z
LAST-MODIFIED:20170316T142303Z
UID:1772-1492128000-1492473599@loveottawa.ca
SUMMARY:Friends for Dinner - Easter
DESCRIPTION:Opportunity to be a Host Families for Easter! \nFriends for Dinner is such an amazing story. Not only is it touching hundreds of international students in our city\, but it has been started in five other cities in Canada\, with other places showing great interest. \nWith each campaign we need more families. Why? Because we encourage host families to keep the relationships going with the students they have already met at Thanksgiving and Christmas. \nPastors\, we need your help. Do you have families that you would recommend? Would you be willing to encourage some friends to participate? Could you make an announcement in your weekend services over the next couple of weeks? \nClick here for all of the details and to find out the next steps. Posters and Bulletin Inserts are also available. \nPlease register by April 2nd online at www.friendsfordinner.ca \n 
URL:https://loveottawa.ca/event/friends-for-dinner-easter/
END:VEVENT
BEGIN:VEVENT
DTSTART;TZID=America/Toronto:20170414T133000
DTEND;TZID=America/Toronto:20170414T220000
DTSTAMP:20260424T193402
CREATED:20170310T153637Z
LAST-MODIFIED:20170310T153637Z
UID:1761-1492176600-1492207200@loveottawa.ca
SUMMARY:No Other Name
DESCRIPTION:This Good Friday\, come together under one roof… \nto sing His glory\, be challenged by His Word and shout His name in praise.\nHis name and No Other Name. \nGood Friday is the only day in the calendar year that is still only about Jesus. Acts 4:12 tells us salvation is found in no one else\, for there is no other name under heaven given to mankind by which we must be saved. Therefore\, there is No Other Name. \nNo Other Name is a Youth Rally for grade 7-12 students\, organized by a group of Youth Leaders in the greater Ottawa area\, featuring amazing worship\, an engaging speaker\, mind-blowing entertainment\, insane dodgeball\, and exciting workshops! \nDATE & TIME: April 14\, 2017 1:30-10:30pm\nLOCATION: The MET Bible Church\, Ottawa\nCOST: Check out the No Other Name website for more information\nRegister: No Other Name on Eventbrite
URL:https://loveottawa.ca/event/no-other-name-3/
LOCATION:The Met Church\, 2176 Prince of Wales Dr.\, Ottawa
END:VEVENT
BEGIN:VEVENT
DTSTART;TZID=America/Toronto:20170416T070000
DTEND;TZID=America/Toronto:20170416T081500
DTSTAMP:20260424T193402
CREATED:20170329T195527Z
LAST-MODIFIED:20170329T195527Z
UID:1786-1492326000-1492330500@loveottawa.ca
SUMMARY:Annual Parliament Hill Easter Sunrise Service
DESCRIPTION:Join us at 7:00 AM for an inspirational worship experience. People from many different congregations gather every year to celebrate the resurrection of Jesus our Lord on the steps of Parliament. \nAs the first notes of the Salvation Army brass band begin to play we lift our praises on Parliament Hill. This year’s speaker is Jason Boucher from The Life Centre. \nInvite your friends. Free parking at the World Exchange Plaza. \nHope to see you there!
URL:https://loveottawa.ca/event/annual-parliament-hill-easter-sunrise-service/
LOCATION:Parliament Hill\, Ottawa
END:VEVENT
BEGIN:VEVENT
DTSTART;TZID=America/Toronto:20170421T090000
DTEND;TZID=America/Toronto:20170422T140000
DTSTAMP:20260424T193402
CREATED:20170328T135958Z
LAST-MODIFIED:20170328T135958Z
UID:1782-1492765200-1492869600@loveottawa.ca
SUMMARY:Book Lovers's Fundraiser - April 21 & 22
DESCRIPTION:Here’s your chance to score some really great used books.  We sell hardcovers for $2 and softcovers for $1.  Tell your friends! \nDo you have a box of Christian books you would like to donate? We are glad to pick them up. Email Richard \nNote: We are only looking for Christian books\, including Christian fiction. Not cookbooks\, old cassettes\, VHS videos\,  or 8-Tracks. This year we will be selling vintage Christian Vinyl. So look through your old record collection! Glad to have CD’s or DVD’s if you would like to donate Christian music or teaching materials.  Yes\, we will take sheet music. \nIt’s a “win-win-win” situation!\nEverybody gets blessed. We raise some funds for Love Ottawa projects\, lots of great books get swapped across the Body of Christ\, and the left-over books go to The Christian Salvage Mission and are placed with leaders in the developing world. And … we help you clear out your basement of those boxes you were never going to open again. \nVolunteers are welcome.   Hoping to see you and your surplus books soon. \nHours:\nFriday April 21st  9:00 AM – 5:00 PM \nSaturday April 22nd 9:00 AM – 2:00 PM   Come early for great deals! \nLocation: The One Way Ministries office
URL:https://loveottawa.ca/event/book-loverss-fundraiser-april-21-22/
LOCATION:One Way Ministries\, 89 Auriga Drive\, Ottawa\, Ontario\, K2E 7Z2\, Canada
END:VEVENT
END:VCALENDAR