BEGIN:VCALENDAR
VERSION:2.0
PRODID:-//Love Ottawa - ECPv6.2.6//NONSGML v1.0//EN
CALSCALE:GREGORIAN
METHOD:PUBLISH
X-ORIGINAL-URL:https://loveottawa.ca
X-WR-CALDESC:Events for Love Ottawa
REFRESH-INTERVAL;VALUE=DURATION:PT1H
X-Robots-Tag:noindex
X-PUBLISHED-TTL:PT1H
BEGIN:VTIMEZONE
TZID:UTC
BEGIN:STANDARD
TZOFFSETFROM:+0000
TZOFFSETTO:+0000
TZNAME:UTC
DTSTART:20160101T000000
END:STANDARD
TZID:America/Toronto
BEGIN:DAYLIGHT
TZOFFSETFROM:-0500
TZOFFSETTO:-0400
TZNAME:EDT
DTSTART:20160313T070000
END:DAYLIGHT
BEGIN:STANDARD
TZOFFSETFROM:-0400
TZOFFSETTO:-0500
TZNAME:EST
DTSTART:20161106T060000
END:STANDARD
END:VTIMEZONE
BEGIN:VEVENT
DTSTART;VALUE=DATE:20160604
DTEND;VALUE=DATE:20160605
DTSTAMP:20260425T103137
CREATED:20160401T205701Z
LAST-MODIFIED:20160401T205701Z
UID:1488-1464998400-1465084799@loveottawa.ca
SUMMARY:The Big Give
DESCRIPTION:Imagine one hundred churches working together to extravagantly bless our city on the same day. We want you to be involved. Whether you are part of a small church or a large one this event is for you. Your involvement can be tailored for your community and still know that you are part of a greater initiative with a larger heart that is touching every neighbourhood in our great city. \nRegister your church!  Visit The Big Give website for more information.
URL:https://loveottawa.ca/event/the-big-give-2/
END:VEVENT
BEGIN:VEVENT
DTSTART;TZID=America/Toronto:20160607T093000
DTEND;TZID=America/Toronto:20160607T123000
DTSTAMP:20260425T103137
CREATED:20160518T164319Z
LAST-MODIFIED:20160518T164352Z
UID:1624-1465291800-1465302600@loveottawa.ca
SUMMARY:Mark Buchanan at World Vision Church Leaders Forum
DESCRIPTION:  \nJoin us as Mark Buchanan offers practical insight on the critical role of vision casting. Discover tools to help you catch God’s heart for those who have been neglected in your community.  Mark is best selling author of “Your Church is Too Safe\,” professor at Ambrose University. $25 per person includes refreshments and special take home resources including the findings of World Vision’s national survey on “How Church Leaders Use Vision & Strategy in Ministry.” \nOptional Lunch and Learn: 1:00 – 2:00 pm. Bring your lunch and take the conversation to the next level with Mark and your peers. \nREGISTER\n  \n 
URL:https://loveottawa.ca/event/mark-buchanan-at-world-vision-church-leaders-forum/
LOCATION:Metropolitan Bible Church\, “The Met”\, 2176 Prince of Wales Drive\, Ottawa
END:VEVENT
BEGIN:VEVENT
DTSTART;TZID=UTC:20160611T084500
DTEND;TZID=UTC:20160611T124500
DTSTAMP:20260425T103137
CREATED:20160409T001910Z
LAST-MODIFIED:20160409T001910Z
UID:1522-1465634700-1465649100@loveottawa.ca
SUMMARY:Quiet Pools: The Contemplative Morning Conference
DESCRIPTION:The Contemplative Morning Conference –                          \nDrawing Near to God Together!   All women welcome! \nJoin us for a morning of creative\, reflective and scriptural practices that will help you draw near and connect with God. Rest\, learn and practice! We have put together great general sessions and workshops.  Cost is $20.00.  Registration is now open! Get all the details here.
URL:https://loveottawa.ca/event/quiet-pools-the-contemplative-morning-conference/
LOCATION:Metropolitan Bible Church\, “The Met”\, 2176 Prince of Wales Drive\, Ottawa
END:VEVENT
BEGIN:VEVENT
DTSTART;TZID=America/Toronto:20160618T090000
DTEND;TZID=America/Toronto:20160618T153000
DTSTAMP:20260425T103137
CREATED:20160608T171821Z
LAST-MODIFIED:20160608T171821Z
UID:1633-1466240400-1466263800@loveottawa.ca
SUMMARY:Alpha Lab Ottawa
DESCRIPTION:  \n \n  \nBrand NEW Alpha Training! \nUnlike any previous training experience: \nTailored to multiple learning styles\, the all new Alpha Labs combines teaching with game-based and peer-to-peer learning that will leave participants buzzing with excitement and ideas. \nFind out more at the Alpha Website. \n 
URL:https://loveottawa.ca/event/alpha-lab-ottawa/
END:VEVENT
END:VCALENDAR