BEGIN:VCALENDAR
VERSION:2.0
PRODID:-//Love Ottawa - ECPv6.2.6//NONSGML v1.0//EN
CALSCALE:GREGORIAN
METHOD:PUBLISH
X-ORIGINAL-URL:https://loveottawa.ca
X-WR-CALDESC:Events for Love Ottawa
REFRESH-INTERVAL;VALUE=DURATION:PT1H
X-Robots-Tag:noindex
X-PUBLISHED-TTL:PT1H
BEGIN:VTIMEZONE
TZID:UTC
BEGIN:STANDARD
TZOFFSETFROM:+0000
TZOFFSETTO:+0000
TZNAME:UTC
DTSTART:20160101T000000
END:STANDARD
TZID:America/Toronto
BEGIN:DAYLIGHT
TZOFFSETFROM:-0500
TZOFFSETTO:-0400
TZNAME:EDT
DTSTART:20160313T070000
END:DAYLIGHT
BEGIN:STANDARD
TZOFFSETFROM:-0400
TZOFFSETTO:-0500
TZNAME:EST
DTSTART:20161106T060000
END:STANDARD
END:VTIMEZONE
BEGIN:VEVENT
DTSTART;TZID=UTC:20160501T190000
DTEND;TZID=UTC:20160501T213000
DTSTAMP:20260425T115001
CREATED:20160406T154959Z
LAST-MODIFIED:20160413T160136Z
UID:1497-1462129200-1462138200@loveottawa.ca
SUMMARY:DIG & DELVE DIALOGUE: Meaning Without a Maker?
DESCRIPTION:DIG & DELVE\, Centre for Inquiry Canada\, and Ravi Zacharias International Ministries jointly present a public dialogue between a Christian and an atheist regarding the universal search for meaning. \nFind out more in this 2 minute video. \nThe Speakers\nDr. Os Guinness is an author and social critic. A witness to the climax of the Chinese revolution in 1949\, he was expelled with many other foreigners in 1951 and returned to Europe where he was educated in England. He completed his undergraduate degree at the University of London and his D.Phil in the social sciences from Oriel College\, Oxford. \nDr. Christopher DiCarlo is a philosopher\, educator\, and author. He currently teaches in the Faculties of Philosophy at the University of Toronto and Ryerson University. He also teaches at Sheridan College in Brampton and Oakville\, ON. \nPlease click here to register. \nSpace is Limited!  A suggested donation of $5.00 at the event would be welcome.
URL:https://loveottawa.ca/event/dig-delve-dialogue-meaning-without-a-maker/
LOCATION:Ottawa Little Theatre\, 400 King Edward Ave\, Ottawa\, Ontario\, Canada
ORGANIZER;CN="Love Ottawa":MAILTO:info@loveottawa.ca
END:VEVENT
BEGIN:VEVENT
DTSTART;TZID=America/Toronto:20160521T184500
DTEND;TZID=America/Toronto:20160522T200000
DTSTAMP:20260425T115001
CREATED:20160518T134833Z
LAST-MODIFIED:20160518T134956Z
UID:1618-1463856300-1463947200@loveottawa.ca
SUMMARY:International Pastors' and Leaders' Forum Leadership Workshops
DESCRIPTION:The IPLF is delighted to invite you to this special leadership workshop of it’s kind featuring Dr. Alfred Itiowe\, the Pastor and  general overseer of the Old Path Commission from Nigeria. Dr. Alfred Itiowe offers world class leadership resources and training for Pastors\, Ministry Leaders and church workers. \nThis is a special meeting you cannot afford to miss. \nFriday and Saturday\, 6:45 – 8:00 pm
URL:https://loveottawa.ca/event/international-pastors-and-leaders-forum-leadership-workshops/
END:VEVENT
BEGIN:VEVENT
DTSTART;TZID=America/Toronto:20160526T093000
DTEND;TZID=America/Toronto:20160526T103000
DTSTAMP:20260425T115001
CREATED:20160518T132827Z
LAST-MODIFIED:20160518T132827Z
UID:1613-1464255000-1464258600@loveottawa.ca
SUMMARY:Big Give Prayer Rally
DESCRIPTION:We all know prayer is the key to any major victory. We invite all pastors\, ministry leaders and coordinators to join us as we pray for a supernatural impact on our city through “The Big Give” on June 4th. This is a Prayer and Preparation Rally. The morning will include a powerful time of prayer and the opportunity to share various ways that congregations are participating. Come expecting the supernatural.
URL:https://loveottawa.ca/event/big-give-prayer-rally/
LOCATION:Woodvale Pentecostal Church\, 205 Greenbank Rd\, Nepean
END:VEVENT
END:VCALENDAR