BEGIN:VCALENDAR
VERSION:2.0
PRODID:-//Love Ottawa - ECPv6.2.6//NONSGML v1.0//EN
CALSCALE:GREGORIAN
METHOD:PUBLISH
X-ORIGINAL-URL:https://loveottawa.ca
X-WR-CALDESC:Events for Love Ottawa
REFRESH-INTERVAL;VALUE=DURATION:PT1H
X-Robots-Tag:noindex
X-PUBLISHED-TTL:PT1H
BEGIN:VTIMEZONE
TZID:UTC
BEGIN:STANDARD
TZOFFSETFROM:+0000
TZOFFSETTO:+0000
TZNAME:UTC
DTSTART:20160101T000000
END:STANDARD
END:VTIMEZONE
BEGIN:VEVENT
DTSTART;VALUE=DATE:20160110
DTEND;VALUE=DATE:20160117
DTSTAMP:20260425T173137
CREATED:20151222T223630Z
LAST-MODIFIED:20151222T223807Z
UID:1313-1452384000-1452988799@loveottawa.ca
SUMMARY:City On Our Knees
DESCRIPTION:Start 2016 in prayer with the rest of the city!\nJanuary 10-16\, 2016\, make it a special week of prayer.\nResources our website www.CityonourKnees.ca\nPray through scripture themes with others across the region.\nLift up unified prayer.\nCollaborate with other churches and prayer groups.\nOttawa will be a City on our Knees!
URL:https://loveottawa.ca/event/city-on-our-knees/
ATTACH;FMTTYPE=image/jpeg:https://loveottawa.ca/wp-content/uploads/2015/03/cityonourknees-e1450805874605.jpg
END:VEVENT
END:VCALENDAR