BEGIN:VCALENDAR
VERSION:2.0
PRODID:-//Love Ottawa - ECPv6.2.6//NONSGML v1.0//EN
CALSCALE:GREGORIAN
METHOD:PUBLISH
X-WR-CALNAME:Love Ottawa
X-ORIGINAL-URL:https://loveottawa.ca
X-WR-CALDESC:Events for Love Ottawa
REFRESH-INTERVAL;VALUE=DURATION:PT1H
X-Robots-Tag:noindex
X-PUBLISHED-TTL:PT1H
BEGIN:VTIMEZONE
TZID:America/Toronto
BEGIN:DAYLIGHT
TZOFFSETFROM:-0500
TZOFFSETTO:-0400
TZNAME:EDT
DTSTART:20150308T070000
END:DAYLIGHT
BEGIN:STANDARD
TZOFFSETFROM:-0400
TZOFFSETTO:-0500
TZNAME:EST
DTSTART:20151101T060000
END:STANDARD
END:VTIMEZONE
BEGIN:VEVENT
DTSTART;TZID=America/Toronto:20150326T133000
DTEND;TZID=America/Toronto:20150326T163000
DTSTAMP:20260425T075847
CREATED:20150309T204640Z
LAST-MODIFIED:20150309T204640Z
UID:828-1427376600-1427387400@loveottawa.ca
SUMMARY:Heart and Soul of the City
DESCRIPTION:Neighbourhood Mapping \nEquip your church to become an invaluable neighbour \n  \nSpeaker:  Dr John Fuder
URL:https://loveottawa.ca/event/heart-and-soul-of-the-city/
LOCATION:The Met Church\, 2176 Prince of Wales Dr.\, Ottawa
ATTACH;FMTTYPE=:
END:VEVENT
BEGIN:VEVENT
DTSTART;TZID=America/Toronto:20150310T080000
DTEND;TZID=America/Toronto:20150310T170000
DTSTAMP:20260425T075847
CREATED:20150310T183152Z
LAST-MODIFIED:20150310T183152Z
UID:841-1425974400-1426006800@loveottawa.ca
SUMMARY:Easter Sunrise Service
DESCRIPTION:
URL:https://loveottawa.ca/event/easter-sunrise-service/
END:VEVENT
BEGIN:VEVENT
DTSTART;VALUE=DATE:20150301
DTEND;VALUE=DATE:20150408
DTSTAMP:20260425T075847
CREATED:20150310T180954Z
LAST-MODIFIED:20150310T180954Z
UID:839-1425168000-1428451199@loveottawa.ca
SUMMARY:Friends for Dinner Easter Campaign
DESCRIPTION:Friends for Dinner is an initiative taken by local churches and Christians ministries. The goal is to connect local families with international students in order to show them Canadian hospitality and build friendships. Check their website for how you can sign up!
URL:https://loveottawa.ca/event/friends-for-dinner-easter-campaign/
ATTACH;FMTTYPE=:
END:VEVENT
END:VCALENDAR