BEGIN:VCALENDAR
VERSION:2.0
PRODID:-//Love Ottawa - ECPv6.2.6//NONSGML v1.0//EN
CALSCALE:GREGORIAN
METHOD:PUBLISH
X-ORIGINAL-URL:https://loveottawa.ca
X-WR-CALDESC:Events for Love Ottawa
REFRESH-INTERVAL;VALUE=DURATION:PT1H
X-Robots-Tag:noindex
X-PUBLISHED-TTL:PT1H
BEGIN:VTIMEZONE
TZID:America/Toronto
BEGIN:DAYLIGHT
TZOFFSETFROM:-0500
TZOFFSETTO:-0400
TZNAME:EDT
DTSTART:20210314T070000
END:DAYLIGHT
BEGIN:STANDARD
TZOFFSETFROM:-0400
TZOFFSETTO:-0500
TZNAME:EST
DTSTART:20211107T060000
END:STANDARD
END:VTIMEZONE
BEGIN:VEVENT
DTSTART;VALUE=DATE:20210616
DTEND;VALUE=DATE:20210618
DTSTAMP:20260421T144402
CREATED:20210603T170809Z
LAST-MODIFIED:20210603T175800Z
UID:2064-1623801600-1623974399@loveottawa.ca
SUMMARY:NCR Online Prayer Summit for Pastors and Leaders 2021
DESCRIPTION:Consecrated: For the renewal of all things in Christ Jesus\nJune 16\, 1 – 3:30 pm & June 17\, 1 – 3:30 pm (this is a two day event)\nRegister for each day you are attending. \nJesus\, son of the Living God is the ransom by the Father for the redemption of a lost humanity. Being the only broker of peace between God and Man\, and Man and Man\, he qualifies as the only mediator to renew all things and unite all things.  \nGod is jealous to do this work in us and through us. He has been graciously at work in our hearts over this last\, difficult season.  \nOur invitation to the prayer summit is earnest\, because there are deeper\, stronger roots we as leaders could be establishing into the Lord. Like the bridesmaids who took along extra oil\, we must pray with expectancy and obedience for the future.  \nIn the book of Revelation\, God warns the Church of Sardis that they have a reputation for being alive\, but they are dead. He goes on to say\, strengthen what remains and is about to die. We sense this is an invitation for us to pray and to consecrate ourselves. \nHighlights\n\nJoin together in heart with pastors and ministry leaders from across the region for this two-day event (1:00 – 3:30 pm each day)\nOur speakers will help us dig into the themes described above\, so that we can respond individually and corporately\nWe are excited to offer French translation this year\, and look forward to fellowship with our Francophone brothers and sisters\n\nSpeakers\n \nHow do I Register for This Free Event?\nRegistration is required to attend. This prayer summit will be hosted on Zoom over two consecutive afternoons. The meeting invitation link will be sent to registered attendees before each event. \nRegistration\n\nRegister for each day you are attending. This is a two day event\n\n  \nRegistration Deadline is Wednesday\, June 16 @ 10am
URL:https://loveottawa.ca/event/ncr-online-prayer-summit-for-pastors-and-leaders-2021/
ATTACH;FMTTYPE=image/png:https://loveottawa.ca/wp-content/uploads/2021/06/Screen-Shot-2021-06-02-at-1.44.36-PM.png
END:VEVENT
END:VCALENDAR