BEGIN:VCALENDAR
VERSION:2.0
PRODID:-//Love Ottawa - ECPv6.2.6//NONSGML v1.0//EN
CALSCALE:GREGORIAN
METHOD:PUBLISH
X-ORIGINAL-URL:https://loveottawa.ca
X-WR-CALDESC:Events for Love Ottawa
REFRESH-INTERVAL;VALUE=DURATION:PT1H
X-Robots-Tag:noindex
X-PUBLISHED-TTL:PT1H
BEGIN:VTIMEZONE
TZID:America/Toronto
BEGIN:DAYLIGHT
TZOFFSETFROM:-0500
TZOFFSETTO:-0400
TZNAME:EDT
DTSTART:20180311T070000
END:DAYLIGHT
BEGIN:STANDARD
TZOFFSETFROM:-0400
TZOFFSETTO:-0500
TZNAME:EST
DTSTART:20181104T060000
END:STANDARD
END:VTIMEZONE
BEGIN:VEVENT
DTSTART;VALUE=DATE:20180602
DTEND;VALUE=DATE:20180603
DTSTAMP:20260423T234659
CREATED:20180503T133826Z
LAST-MODIFIED:20180504T131843Z
UID:1900-1527897600-1527983999@loveottawa.ca
SUMMARY:The Big Give - 2018
DESCRIPTION:ONE COMMUNITY. ONE DAY. ONE STATEMENT. \nWe are a group of volunteers who passionately believe that kindness and generosity are an integral part of our Christian faith. Every year\, we mobilize churches across the country to bless their neighbourhoods through a unified day of giving extravagantly – EVERYTHING IS FREE! We would love to have your church or ministry join us on June 2\, 2018! \nTo register your church or to get more information\, visit the Big Give website \n 
URL:https://loveottawa.ca/event/the-big-give-2018/
END:VEVENT
END:VCALENDAR