BEGIN:VCALENDAR
VERSION:2.0
PRODID:-//Love Ottawa - ECPv6.2.6//NONSGML v1.0//EN
CALSCALE:GREGORIAN
METHOD:PUBLISH
X-ORIGINAL-URL:https://loveottawa.ca
X-WR-CALDESC:Events for Love Ottawa
REFRESH-INTERVAL;VALUE=DURATION:PT1H
X-Robots-Tag:noindex
X-PUBLISHED-TTL:PT1H
BEGIN:VTIMEZONE
TZID:America/Toronto
BEGIN:DAYLIGHT
TZOFFSETFROM:-0500
TZOFFSETTO:-0400
TZNAME:EDT
DTSTART:20180311T070000
END:DAYLIGHT
BEGIN:STANDARD
TZOFFSETFROM:-0400
TZOFFSETTO:-0500
TZNAME:EST
DTSTART:20181104T060000
END:STANDARD
END:VTIMEZONE
BEGIN:VEVENT
DTSTART;TZID=America/Toronto:20180322T193000
DTEND;TZID=America/Toronto:20180322T204500
DTSTAMP:20260424T034403
CREATED:20180306T223324Z
LAST-MODIFIED:20180306T223324Z
UID:1865-1521747000-1521751500@loveottawa.ca
SUMMARY:Quiet Pools - Evening of Rest & Reflection
DESCRIPTION:An Evening of Rest and Reflection for women\, using quiet prayer\, liturgy\, scriptures\, vespers and restful worship music faciliated by the Quiet Pools team. Come and find rest for your soul as we focus on Jesus. Doors open at 7:10pm for quiet reflection. \nThe evening starts at 7:30pm and ends at 8:45pm at the Vineyard Ottawa building\, 51 Greenbank Rd just south of Baseline. \nThis is a free event! Please register so we know that you are coming. Please feel free to bring your lounge chair\, pillow\, blanket\, and journal. You do not have to bring your ticket. \nWant to learn more about Quiet Pools ministry for women? Click here for the Quiet Pools website.
URL:https://loveottawa.ca/event/quiet-pools-evening-of-rest-reflection/
LOCATION:Ottawa Vineyard\, 51 Greenbank Rd\, Ottawa
END:VEVENT
END:VCALENDAR