BEGIN:VCALENDAR
VERSION:2.0
PRODID:-//Love Ottawa - ECPv6.2.6//NONSGML v1.0//EN
CALSCALE:GREGORIAN
METHOD:PUBLISH
X-WR-CALNAME:Love Ottawa
X-ORIGINAL-URL:https://loveottawa.ca
X-WR-CALDESC:Events for Love Ottawa
REFRESH-INTERVAL;VALUE=DURATION:PT1H
X-Robots-Tag:noindex
X-PUBLISHED-TTL:PT1H
BEGIN:VTIMEZONE
TZID:America/Toronto
BEGIN:DAYLIGHT
TZOFFSETFROM:-0500
TZOFFSETTO:-0400
TZNAME:EDT
DTSTART:20170312T070000
END:DAYLIGHT
BEGIN:STANDARD
TZOFFSETFROM:-0400
TZOFFSETTO:-0500
TZNAME:EST
DTSTART:20171105T060000
END:STANDARD
END:VTIMEZONE
BEGIN:VEVENT
DTSTART;VALUE=DATE:20171109
DTEND;VALUE=DATE:20171230
DTSTAMP:20260424T101211
CREATED:20171109T164719Z
LAST-MODIFIED:20171109T164843Z
UID:1841-1510185600-1514591999@loveottawa.ca
SUMMARY:Friends for Dinner - Christmas Season
DESCRIPTION:Love Ottawa Needs Host Families for Christmas!\nOpportunity to be a Host Families for Christmas! \nFriends for Dinner is such an amazing story. Not only is it touching hundreds of international students in our city\, but it has been started in other cities in Canada\, with other places showing great interest. \nWith each campaign we need more families. Why? Because we encourage host families to keep the relationships going with the students they have already met at Thanksgiving and Christmas. \nPastors\, we need your help. Do you have families that you would recommend? Would you be willing to encourage some friends to participate? Could you make an announcement in your weekend services over the next couple of weeks? \nThey need more families to join this wonderful effort as new international students sign up for the upcoming Christmas season. Please make an announcement in your weekend services over the next several weeks. Click here to register your family or click here to visit their website.
URL:https://loveottawa.ca/event/friends-for-dinner-christmas-season-2/
END:VEVENT
END:VCALENDAR