BEGIN:VCALENDAR
VERSION:2.0
PRODID:-//Love Ottawa - ECPv6.2.6//NONSGML v1.0//EN
CALSCALE:GREGORIAN
METHOD:PUBLISH
X-ORIGINAL-URL:https://loveottawa.ca
X-WR-CALDESC:Events for Love Ottawa
REFRESH-INTERVAL;VALUE=DURATION:PT1H
X-Robots-Tag:noindex
X-PUBLISHED-TTL:PT1H
BEGIN:VTIMEZONE
TZID:America/Toronto
BEGIN:DAYLIGHT
TZOFFSETFROM:-0500
TZOFFSETTO:-0400
TZNAME:EDT
DTSTART:20170312T070000
END:DAYLIGHT
BEGIN:STANDARD
TZOFFSETFROM:-0400
TZOFFSETTO:-0500
TZNAME:EST
DTSTART:20171105T060000
END:STANDARD
END:VTIMEZONE
BEGIN:VEVENT
DTSTART;TZID=America/Toronto:20170327T190000
DTEND;TZID=America/Toronto:20170327T210000
DTSTAMP:20260424T205107
CREATED:20170316T132542Z
LAST-MODIFIED:20170316T134402Z
UID:1765-1490641200-1490648400@loveottawa.ca
SUMMARY:Big Give Training Session
DESCRIPTION:Come and learn all the ins and outs of hosting a Big Give Event. This session will answer all of your questions about how to run a successful Big Give community outreach on June 3\, 2017. You will be provided with written instructions as well as plenty of opportunity for extensive Q&A time so that you can feel confident in the direction you need to take to prepare for your event. \nIf you haven’t registered your church yet\, there will be an opportunity to sign up that evening. \nLastly\, watch for more details about the annual prayer Rally that will take place on Thursday\, May 25th at 9:30 am. \nClick here to watch a video as 100 Huntley Street promotes The Big Give nationally! \n 
URL:https://loveottawa.ca/event/big-give-training-session/
LOCATION:The Met Church\, 2176 Prince of Wales Dr.\, Ottawa
END:VEVENT
END:VCALENDAR