BEGIN:VCALENDAR
VERSION:2.0
PRODID:-//Love Ottawa - ECPv6.2.6//NONSGML v1.0//EN
CALSCALE:GREGORIAN
METHOD:PUBLISH
X-WR-CALNAME:Love Ottawa
X-ORIGINAL-URL:https://loveottawa.ca
X-WR-CALDESC:Events for Love Ottawa
REFRESH-INTERVAL;VALUE=DURATION:PT1H
X-Robots-Tag:noindex
X-PUBLISHED-TTL:PT1H
BEGIN:VTIMEZONE
TZID:America/Toronto
BEGIN:DAYLIGHT
TZOFFSETFROM:-0500
TZOFFSETTO:-0400
TZNAME:EDT
DTSTART:20160313T070000
END:DAYLIGHT
BEGIN:STANDARD
TZOFFSETFROM:-0400
TZOFFSETTO:-0500
TZNAME:EST
DTSTART:20161106T060000
END:STANDARD
END:VTIMEZONE
BEGIN:VEVENT
DTSTART;TZID=America/Toronto:20160526T093000
DTEND;TZID=America/Toronto:20160526T103000
DTSTAMP:20260425T131221
CREATED:20160518T132827Z
LAST-MODIFIED:20160518T132827Z
UID:1613-1464255000-1464258600@loveottawa.ca
SUMMARY:Big Give Prayer Rally
DESCRIPTION:We all know prayer is the key to any major victory. We invite all pastors\, ministry leaders and coordinators to join us as we pray for a supernatural impact on our city through “The Big Give” on June 4th. This is a Prayer and Preparation Rally. The morning will include a powerful time of prayer and the opportunity to share various ways that congregations are participating. Come expecting the supernatural.
URL:https://loveottawa.ca/event/big-give-prayer-rally/
LOCATION:Woodvale Pentecostal Church\, 205 Greenbank Rd\, Nepean
END:VEVENT
END:VCALENDAR