BEGIN:VCALENDAR
VERSION:2.0
PRODID:-//Love Ottawa - ECPv6.2.6//NONSGML v1.0//EN
CALSCALE:GREGORIAN
METHOD:PUBLISH
X-WR-CALNAME:Love Ottawa
X-ORIGINAL-URL:https://loveottawa.ca
X-WR-CALDESC:Events for Love Ottawa
REFRESH-INTERVAL;VALUE=DURATION:PT1H
X-Robots-Tag:noindex
X-PUBLISHED-TTL:PT1H
BEGIN:VTIMEZONE
TZID:UTC
BEGIN:STANDARD
TZOFFSETFROM:+0000
TZOFFSETTO:+0000
TZNAME:UTC
DTSTART:20160101T000000
END:STANDARD
END:VTIMEZONE
BEGIN:VEVENT
DTSTART;TZID=UTC:20160429T190000
DTEND;TZID=UTC:20160430T180000
DTSTAMP:20260425T131221
CREATED:20160311T025041Z
LAST-MODIFIED:20160311T025041Z
UID:1467-1461956400-1462039200@loveottawa.ca
SUMMARY:The Ottawa Worship Collective
DESCRIPTION:gather.worship.equip.send \nJoin us on April 29th & 30th for The Ottawa Worship Collective Conference! This jam packed event is intended for anyone involved with worship & the arts in churches across Ottawa. By coming to the OWC Conference\, you’ll be better equipped to serve your ministry\, enriched in your understanding of biblical worship\, and encouraged to love your church and city more deeply. This is an event you won’t want to miss! \nVisit their website for more information or here to register
URL:https://loveottawa.ca/event/the-ottawa-worship-collective/
LOCATION:Lifecentre Church\, 2214 Innes Road\, Ottawa
END:VEVENT
END:VCALENDAR