BEGIN:VCALENDAR
VERSION:2.0
PRODID:-//Love Ottawa - ECPv6.2.6//NONSGML v1.0//EN
CALSCALE:GREGORIAN
METHOD:PUBLISH
X-ORIGINAL-URL:https://loveottawa.ca
X-WR-CALDESC:Events for Love Ottawa
REFRESH-INTERVAL;VALUE=DURATION:PT1H
X-Robots-Tag:noindex
X-PUBLISHED-TTL:PT1H
BEGIN:VTIMEZONE
TZID:UTC
BEGIN:STANDARD
TZOFFSETFROM:+0000
TZOFFSETTO:+0000
TZNAME:UTC
DTSTART:20160101T000000
END:STANDARD
END:VTIMEZONE
BEGIN:VEVENT
DTSTART;TZID=UTC:20160415T090000
DTEND;TZID=UTC:20160416T130000
DTSTAMP:20260425T144434
CREATED:20160227T024242Z
LAST-MODIFIED:20160227T024242Z
UID:1447-1460710800-1460811600@loveottawa.ca
SUMMARY:Book Lovers' Fundraiser  April 15\, 16
DESCRIPTION:Here’s your chance to score some really great used books.  We sell hardcovers for $2 and softcovers for $1.  Tell your friends! \nDo you have a box of Christian books you would like to donate? We are glad to pick them up. Email Richard \nNote: We are unable to take cassettes\, 8 tracks\, VHS\, or vinyl. Glad to have CD’s or DVD’s if you would like to donate Christian music or teaching materials.  Yes\, we will take sheet music. \nLeft over books are donated to the Christian Salvage Mission who distribute them to pastors in the developing world.  We have been able to give 3000 books in the last couple of years to this worthy cause. \nHours: \nFriday April 15th  9:00 AM – 5:00 PM \nSaturday April 16th 9:00 AM – 1:00 PM   Come early for great deals! \nLocation: The One Way Ministries office at 89 Auriga Dr. \n 
URL:https://loveottawa.ca/event/book-lovers-fundraiser-april-15-16/
LOCATION:One Way Ministries\, 89 Auriga Drive\, Ottawa\, Ontario\, K2E 7Z2\, Canada
ORGANIZER;CN="Love Ottawa":MAILTO:info@loveottawa.ca
END:VEVENT
END:VCALENDAR