BEGIN:VCALENDAR
VERSION:2.0
PRODID:-//Love Ottawa - ECPv6.2.6//NONSGML v1.0//EN
CALSCALE:GREGORIAN
METHOD:PUBLISH
X-WR-CALNAME:Love Ottawa
X-ORIGINAL-URL:https://loveottawa.ca
X-WR-CALDESC:Events for Love Ottawa
REFRESH-INTERVAL;VALUE=DURATION:PT1H
X-Robots-Tag:noindex
X-PUBLISHED-TTL:PT1H
BEGIN:VTIMEZONE
TZID:UTC
BEGIN:STANDARD
TZOFFSETFROM:+0000
TZOFFSETTO:+0000
TZNAME:UTC
DTSTART:20160101T000000
END:STANDARD
END:VTIMEZONE
BEGIN:VEVENT
DTSTART;VALUE=DATE:20160325
DTEND;VALUE=DATE:20160329
DTSTAMP:20260425T144250
CREATED:20160311T021832Z
LAST-MODIFIED:20160311T021832Z
UID:1463-1458864000-1459209599@loveottawa.ca
SUMMARY:Friends for Dinner Easter Campaign
DESCRIPTION:Friends for Dinner is an initiative taken by local churches and Christians ministries. The goal is to connect local families with international students in order to show them Canadian hospitality and build friendships. Check their website for how you can sign up!
URL:https://loveottawa.ca/event/friends-for-dinner-easter-campaign-2/
END:VEVENT
END:VCALENDAR