BEGIN:VCALENDAR
VERSION:2.0
PRODID:-//Love Ottawa - ECPv6.2.6//NONSGML v1.0//EN
CALSCALE:GREGORIAN
METHOD:PUBLISH
X-WR-CALNAME:Love Ottawa
X-ORIGINAL-URL:https://loveottawa.ca
X-WR-CALDESC:Events for Love Ottawa
REFRESH-INTERVAL;VALUE=DURATION:PT1H
X-Robots-Tag:noindex
X-PUBLISHED-TTL:PT1H
BEGIN:VTIMEZONE
TZID:America/Toronto
BEGIN:DAYLIGHT
TZOFFSETFROM:-0500
TZOFFSETTO:-0400
TZNAME:EDT
DTSTART:20150308T070000
END:DAYLIGHT
BEGIN:STANDARD
TZOFFSETFROM:-0400
TZOFFSETTO:-0500
TZNAME:EST
DTSTART:20151101T060000
END:STANDARD
END:VTIMEZONE
BEGIN:VEVENT
DTSTART;TZID=America/Toronto:20151030T071500
DTEND;TZID=America/Toronto:20151030T091500
DTSTAMP:20260425T215945
CREATED:20150311T212826Z
LAST-MODIFIED:20150311T212826Z
UID:873-1446189300-1446196500@loveottawa.ca
SUMMARY:Ottawa Civic Prayer Breakfast
DESCRIPTION:Gather your friends and join us in as we honour and pray for our City Councillors\, Police\, Fire Fighters\, and Paramedics. Ottawa is one of 50 or more city prayer breakfasts held annually across Canada…we are one of the newest. \nPeople of faith in Christ are exhorted and encouraged to pray and be thankful for all in authority\, that we may lead quiet and peaceable lives in all godliness. (1 Tim. 2:1\,2) God has promised to bless our City if we\, His people\, will pray and seek His face. (2 Chron. 7:14) The Lord encourages citizens to pray for the well-being and love the City in which they live.
URL:https://loveottawa.ca/event/ottawa-civic-prayer-breakfast/
LOCATION:Ottawa Conference and Event Centre\, 200 Coventry Road\, Ottawa
ATTACH;FMTTYPE=:
END:VEVENT
END:VCALENDAR